BEGIN:VCALENDAR
VERSION:2.0
PRODID:gruene-koblenz.de
METHOD:PUBLISH
BEGIN:VTIMEZONE
TZID:Europe/Berlin
X-LIC-LOCATION:Europe/Berlin
BEGIN:DAYLIGHT
TZOFFSETFROM:+0100
TZOFFSETTO:+0200
TZNAME:CEST
DTSTART:19700329T020000
RRULE:FREQ=YEARLY;INTERVAL=1;BYDAY=-1SU;BYMONTH=3
END:DAYLIGHT
BEGIN:STANDARD
TZOFFSETFROM:+0200
TZOFFSETTO:+0100
TZNAME:CET
DTSTART:19701025T030000
RRULE:FREQ=YEARLY;INTERVAL=1;BYDAY=-1SU;BYMONTH=10
END:STANDARD
END:VTIMEZONE
BEGIN:VEVENT
UID:898ce51388554351aa1c70d8ccd41a63@gruene-koblenz.de
URL;VALUE=URI:https://gruene-koblenz.de/termine/artenvielfaltsspaziergang
 /
LOCATION:
SUMMARY:Artenvielfaltsspaziergang auf dem Gülser Heyerberg
DESCRIPTION;ALTREP="data:text/html,%0A%3Cp%3EDie%20GR%C3%9CNEN%20G%C3%BCl
 s%20laden%20alle%20Interessierten%20zu%20einem%20Spaziergang%20am%2010.03
 .%20ab%2014%3A00%20Uhr%20ein.%20Gemeinsam%20mit%20BUND-Mitglied%20Stefan%
 20Schliebner%20besuchen%20wir%20die%20Kiesgrube%20auf%20dem%20G%C3%BClser
 %20Heyerberg%2C%20um%20uns%20%C3%BCber%20den%20Schutz%20der%20Artenvielfa
 lt%20durch%20den%20Erhalt%20wichtiger%20Biotope%20zu%20informieren%20und%
 20auszutauschen.%20Treffpunkt%20ist%20die%20Grillh%C3%BCtte%20Heyerberg.%
 20Herzliche%20Einladung%21%20%3C%2Fp%3E%0A":Die GRÜNEN Güls laden alle 
 Interessierten zu einem Spaziergang am 10.03. ab 14:00 Uhr ein. Gemeinsam
  mit BUND-Mitglied Stefan Schliebner besuchen wir die Kiesgrube auf dem G
 ülser Heyerberg\, um uns über den Schutz der Artenvielfalt durch den Er
 halt wichtiger Biotope zu informieren und auszutauschen. Treffpunkt ist d
 ie Grillhütte Heyerberg. Herzliche Einladung!
CLASS:PUBLIC
DTSTART;TZID=Europe/Berlin:20240310T140000
DTEND;TZID=Europe/Berlin:20240310T150000
DTSTAMP:20260425T153424
END:VEVENT
END:VCALENDAR