BEGIN:VCALENDAR
VERSION:2.0
PRODID:gruene-koblenz.de
METHOD:PUBLISH
BEGIN:VTIMEZONE
TZID:Europe/Berlin
X-LIC-LOCATION:Europe/Berlin
BEGIN:DAYLIGHT
TZOFFSETFROM:+0100
TZOFFSETTO:+0200
TZNAME:CEST
DTSTART:19700329T020000
RRULE:FREQ=YEARLY;INTERVAL=1;BYDAY=-1SU;BYMONTH=3
END:DAYLIGHT
BEGIN:STANDARD
TZOFFSETFROM:+0200
TZOFFSETTO:+0100
TZNAME:CET
DTSTART:19701025T030000
RRULE:FREQ=YEARLY;INTERVAL=1;BYDAY=-1SU;BYMONTH=10
END:STANDARD
END:VTIMEZONE
BEGIN:VEVENT
UID:396ec9002b3f34c05465338572f266ad@gruene-koblenz.de
URL;VALUE=URI:https://gruene-koblenz.de/termine/haustuerwahlkampf-mit-mis
 bah-khan/
LOCATION:
SUMMARY:Haustürwahlkampf mit Misbah Khan 
DESCRIPTION;ALTREP="data:text/html,%0A%3Cp%3E%C2%A0Zeit%20und%20Ort%20noc
 h%20offen.%3C%2Fp%3E%0A": Zeit und Ort noch offen.
CLASS:PUBLIC
DTSTART;TZID=Europe/Berlin:20260311T000000
DTEND;TZID=Europe/Berlin:20260311T010000
DTSTAMP:20260419T151053
END:VEVENT
END:VCALENDAR