BEGIN:VCALENDAR
VERSION:2.0
PRODID:gruene-koblenz.de
METHOD:PUBLISH
BEGIN:VTIMEZONE
TZID:Europe/Berlin
X-LIC-LOCATION:Europe/Berlin
BEGIN:DAYLIGHT
TZOFFSETFROM:+0100
TZOFFSETTO:+0200
TZNAME:CEST
DTSTART:19700329T020000
RRULE:FREQ=YEARLY;INTERVAL=1;BYDAY=-1SU;BYMONTH=3
END:DAYLIGHT
BEGIN:STANDARD
TZOFFSETFROM:+0200
TZOFFSETTO:+0100
TZNAME:CET
DTSTART:19701025T030000
RRULE:FREQ=YEARLY;INTERVAL=1;BYDAY=-1SU;BYMONTH=10
END:STANDARD
END:VTIMEZONE
BEGIN:VEVENT
UID:80f3788e2259022fbe4db9b4613edd87@gruene-koblenz.de
URL;VALUE=URI:https://gruene-koblenz.de/termine/haustuerwahlkampf-mit-pia
 -schellhammer/
LOCATION:
SUMMARY:Haustürwahlkampf mit Pia Schellhammer
DESCRIPTION;ALTREP="data:text/html,%0A%3Cp%3EAb%2017%20Uhr%20machen%20wir
 %20zusammen%20mit%20Pia%20Schellhammer%20Haust%C3%BCrwahlkampf%20im%20Sta
 dtteil%20S%C3%BCd.%3C%2Fp%3E%0A":Ab 17 Uhr machen wir zusammen mit Pia Sc
 hellhammer Haustürwahlkampf im Stadtteil Süd.
CLASS:PUBLIC
DTSTART;TZID=Europe/Berlin:20260304T170000
DTEND;TZID=Europe/Berlin:20260304T180000
DTSTAMP:20260421T143222
END:VEVENT
END:VCALENDAR