BEGIN:VCALENDAR
VERSION:2.0
PRODID:gruene-koblenz.de
METHOD:PUBLISH
BEGIN:VTIMEZONE
TZID:Europe/Berlin
X-LIC-LOCATION:Europe/Berlin
BEGIN:DAYLIGHT
TZOFFSETFROM:+0100
TZOFFSETTO:+0200
TZNAME:CEST
DTSTART:19700329T020000
RRULE:FREQ=YEARLY;INTERVAL=1;BYDAY=-1SU;BYMONTH=3
END:DAYLIGHT
BEGIN:STANDARD
TZOFFSETFROM:+0200
TZOFFSETTO:+0100
TZNAME:CET
DTSTART:19701025T030000
RRULE:FREQ=YEARLY;INTERVAL=1;BYDAY=-1SU;BYMONTH=10
END:STANDARD
END:VTIMEZONE
BEGIN:VEVENT
UID:46c65cf6bcfa043fd19c8cb3376422b0@gruene-koblenz.de
URL;VALUE=URI:https://gruene-koblenz.de/termine/kuechentischgespraeche/
LOCATION:
SUMMARY:Küchentischgespräche
DESCRIPTION;ALTREP="data:text/html,%0A%3Cp%3EAm%2012.2.2025%20findet%20ab
 %2019%3A00%20eine%20gemeinsame%20Veranstaltung%20der%20GR%C3%9CNEN%20Krei
 sverb%C3%A4nde%20Mayen-Koblenz%2C%20Rhein-Lahn%2C%20Neuwied%2C%20Rhein-Hu
 nsr%C3%BCck%20und%20Ahrweiler%20statt.%20Im%20Circus%20Maximus%20in%20Kob
 lenz%20%28%3Ca%20href%3D%22https%3A%2F%2Fwww.google.de%2Fmaps%2Fplace%2FC
 ircus%2BMaximus%2F%4045.9994384%2C4.7598369%2C6z%2Fdata%3D%213m1%215s0x47
 be7ca577e2af35%3A0x7b53adb8631d8e99%214m10%211m2%212m1%211sCircus%2BMaxim
 us%213m6%211s0x47be7ca59d0fd617%3A0x6c8bc3e8539465be%218m2%213d50.3564286
 %214d7.5942788%2115sCg5DaXJjdXMgTWF4aW11c1oQIg5jaXJjdXMgbWF4aW11c5IBCnJlc
 3RhdXJhbnTgAQA%2116s%252Fg%252F1ttyvwd8%3Fentry%3Dttu%26amp%3Bg_ep%3DEgoy
 MDI0MTIxMS4wIKXMDSoASAFQAw%253D%253D%22%3EStegemannstra%C3%9Fe%2030%3C%2F
 a%3E%29%20stehen%20verschiedene%20Kandidierende%20f%C3%BCr%20die%20Bundes
 tagswahl%20f%C3%BCr%20Gespr%C3%A4che%20und%20Austausch%20in%20lockerem%20
 Umfeld%20bereit.%3C%2Fp%3E%0A%0A%0A%0A%3Cp%3E%3C%2Fp%3E%0A":Am 12.2.2025 
 findet ab 19:00 eine gemeinsame Veranstaltung der GRÜNEN Kreisverbände 
 Mayen-Koblenz\, Rhein-Lahn\, Neuwied\, Rhein-Hunsrück und Ahrweiler stat
 t. Im Circus Maximus in Koblenz (Stegemannstraße 30) stehen verschiedene
  Kandidierende für die Bundestagswahl für Gespräche und Austausch in l
 ockerem Umfeld bereit.
CLASS:PUBLIC
DTSTART;TZID=Europe/Berlin:20250212T190000
DTEND;TZID=Europe/Berlin:20250212T200000
DTSTAMP:20260424T054511
END:VEVENT
END:VCALENDAR