BEGIN:VCALENDAR
VERSION:2.0
PRODID:gruene-koblenz.de
METHOD:PUBLISH
BEGIN:VTIMEZONE
TZID:Europe/Berlin
X-LIC-LOCATION:Europe/Berlin
BEGIN:DAYLIGHT
TZOFFSETFROM:+0100
TZOFFSETTO:+0200
TZNAME:CEST
DTSTART:19700329T020000
RRULE:FREQ=YEARLY;INTERVAL=1;BYDAY=-1SU;BYMONTH=3
END:DAYLIGHT
BEGIN:STANDARD
TZOFFSETFROM:+0200
TZOFFSETTO:+0100
TZNAME:CET
DTSTART:19701025T030000
RRULE:FREQ=YEARLY;INTERVAL=1;BYDAY=-1SU;BYMONTH=10
END:STANDARD
END:VTIMEZONE
BEGIN:VEVENT
UID:91349364b883b9e7d17f0326f61d411f@gruene-koblenz.de
URL;VALUE=URI:https://gruene-koblenz.de/termine/mode-und-nachhaltigkeit-i
 nfoabend-in-guels/
LOCATION:Katholische Begegnungsstätte Güls
SUMMARY:Mode und Nachhaltigkeit – Infoabend in Güls
DESCRIPTION;ALTREP="data:text/html,%0A%3Cp%3EWie%20viele%20Kilometer%20le
 gt%20ein%20T-Shirt%20normalerweise%20zur%C3%BCck%2C%20bis%20es%20in%20ein
 em%20Gesch%C3%A4ft%20h%C3%A4ngt%3F%20Wie%20und%20wo%20werden%20die%20Text
 ilien%20produziert%3F%20Mit%20dem%20Ziel%2C%20Mode%20wieder%20in%20den%20
 Wert%20zu%20bringen%2C%20findet%20am%2009.03.%20ab%2018%3A00%20Uhr%20ein%
 20Infoabend%20zum%20Thema%20Mode%20und%20Nachhaltigkeit%20in%20der%20Kath
 olischen%20Begegnungsst%C3%A4tte%20G%C3%BCls%20statt.%20Gestaltet%20ist%2
 0der%20Abend%20von%20unserer%20GR%C3%9CNEN%20Ortsgruppe%20G%C3%BCls%20und
 %20der%20Fraueninitiative%20Lokale%20Agenda%2021%20Koblenz.%20%3C%2Fp%3E%
 0A":Wie viele Kilometer legt ein T-Shirt normalerweise zurück\, bis es i
 n einem Geschäft hängt? Wie und wo werden die Textilien produziert? Mit
  dem Ziel\, Mode wieder in den Wert zu bringen\, findet am 09.03. ab 18:0
 0 Uhr ein Infoabend zum Thema Mode und Nachhaltigkeit in der Katholischen
  Begegnungsstätte Güls statt. Gestaltet ist der Abend von unserer GRÜN
 EN Ortsgruppe Güls und der Fraueninitiative Lokale Agenda 21 Koblenz.
CLASS:PUBLIC
DTSTART;TZID=Europe/Berlin:20240309T180000
DTEND;TZID=Europe/Berlin:20240309T190000
DTSTAMP:20260426T015608
END:VEVENT
END:VCALENDAR