BEGIN:VCALENDAR
VERSION:2.0
PRODID:gruene-koblenz.de
METHOD:PUBLISH
BEGIN:VTIMEZONE
TZID:Europe/Berlin
X-LIC-LOCATION:Europe/Berlin
BEGIN:DAYLIGHT
TZOFFSETFROM:+0100
TZOFFSETTO:+0200
TZNAME:CEST
DTSTART:19700329T020000
RRULE:FREQ=YEARLY;INTERVAL=1;BYDAY=-1SU;BYMONTH=3
END:DAYLIGHT
BEGIN:STANDARD
TZOFFSETFROM:+0200
TZOFFSETTO:+0100
TZNAME:CET
DTSTART:19701025T030000
RRULE:FREQ=YEARLY;INTERVAL=1;BYDAY=-1SU;BYMONTH=10
END:STANDARD
END:VTIMEZONE
BEGIN:VEVENT
UID:398c127221874d536ec5190575157bc1@gruene-koblenz.de
URL;VALUE=URI:https://gruene-koblenz.de/termine/solidaritaetskundgebung-f
 uer-israel/
LOCATION:Münzplatz, Koblenz
SUMMARY:Solidaritätskundgebung für Israel
DESCRIPTION;ALTREP="data:text/html,%0A%3Cp%3EDiesen%20Samstag%20rufen%20w
 ir%20gemeinsam%20mit%20den%20FREIEN%20W%C3%A4hlern%2C%20der%20CDU%20Koble
 nz%2C%20der%20SPD%20Koblenz%20und%20der%20FDP%20Koblenz%20zu%20einer%20So
 lidarit%C3%A4tskundgebung%20um%2016%3A00%20Uhr%20auf%20dem%20M%C3%BCnzpla
 tz%20auf.%20%3Cbr%3E%3Cstrong%3ELasst%20uns%20gemeinsam%20ein%20Zeichen%2
 0f%C3%BCr%20den%20Frieden%20im%20Nahen%20Osten%20setzen%21%20%3C%2Fstrong
 %3E%3C%2Fp%3E%0A":Diesen Samstag rufen wir gemeinsam mit den FREIEN Wähl
 ern\, der CDU Koblenz\, der SPD Koblenz und der FDP Koblenz zu einer Soli
 daritätskundgebung um 16:00 Uhr auf dem Münzplatz auf. Lasst uns gemein
 sam ein Zeichen für den Frieden im Nahen Osten setzen!
CLASS:PUBLIC
DTSTART;TZID=Europe/Berlin:20231014T160000
DTEND;TZID=Europe/Berlin:20231014T170000
DTSTAMP:20260420T221440
END:VEVENT
END:VCALENDAR