BEGIN:VCALENDAR
VERSION:2.0
PRODID:gruene-koblenz.de
METHOD:PUBLISH
BEGIN:VTIMEZONE
TZID:Europe/Berlin
X-LIC-LOCATION:Europe/Berlin
BEGIN:DAYLIGHT
TZOFFSETFROM:+0100
TZOFFSETTO:+0200
TZNAME:CEST
DTSTART:19700329T020000
RRULE:FREQ=YEARLY;INTERVAL=1;BYDAY=-1SU;BYMONTH=3
END:DAYLIGHT
BEGIN:STANDARD
TZOFFSETFROM:+0200
TZOFFSETTO:+0100
TZNAME:CET
DTSTART:19701025T030000
RRULE:FREQ=YEARLY;INTERVAL=1;BYDAY=-1SU;BYMONTH=10
END:STANDARD
END:VTIMEZONE
BEGIN:VEVENT
UID:3cea32b65247bafd836ece89d71f2154@gruene-koblenz.de
URL;VALUE=URI:https://gruene-koblenz.de/termine/thementeam-wirtschaft-und
 -finanzen/
LOCATION:Hohenzollernstraße 137, 56068 Koblenz
SUMMARY:Thementeam Wirtschaft und Finanzen
DESCRIPTION;ALTREP="data:text/html,%0A%3Cp%3EAm%2015.03.23%20um%2019%3A00
 %20Uhr%20trifft%20sich%20das%20Thementeam%20Wirtschaft%20und%20Finanzen%2
 0in%20der%20gr%C3%BCnen%20Gesch%C3%A4ftsstelle%20in%20der%20Hohenzollerns
 tra%C3%9Fe%20137.%20%3C%2Fp%3E%0A%0A%0A%0A%3Cp%3EMeldet%20euch%20bei%20we
 iteren%20Fragen%20und%20Interesse%20gerne%20unter%20info%40gruene-koblenz
 .de.%3C%2Fp%3E%0A":Am 15.03.23 um 19:00 Uhr trifft sich das Thementeam Wi
 rtschaft und Finanzen in der grünen Geschäftsstelle in der Hohenzollern
 straße 137.\n\nMeldet euch bei weiteren Fragen und Interesse gerne unter
  info@gruene-koblenz.de.
CLASS:PUBLIC
DTSTART;TZID=Europe/Berlin:20230315T190000
DTEND;TZID=Europe/Berlin:20230315T200000
DTSTAMP:20260423T230319
END:VEVENT
END:VCALENDAR