BEGIN:VCALENDAR
VERSION:2.0
PRODID:gruene-koblenz.de
METHOD:PUBLISH
BEGIN:VTIMEZONE
TZID:Europe/Berlin
X-LIC-LOCATION:Europe/Berlin
BEGIN:DAYLIGHT
TZOFFSETFROM:+0100
TZOFFSETTO:+0200
TZNAME:CEST
DTSTART:19700329T020000
RRULE:FREQ=YEARLY;INTERVAL=1;BYDAY=-1SU;BYMONTH=3
END:DAYLIGHT
BEGIN:STANDARD
TZOFFSETFROM:+0200
TZOFFSETTO:+0100
TZNAME:CET
DTSTART:19701025T030000
RRULE:FREQ=YEARLY;INTERVAL=1;BYDAY=-1SU;BYMONTH=10
END:STANDARD
END:VTIMEZONE
BEGIN:VEVENT
UID:780627ce664959cf7f9aeeff0554d188@gruene-koblenz.de
URL;VALUE=URI:https://gruene-koblenz.de/termine/wirtschaftsempfang/
LOCATION:Contel Hotel Koblenz
SUMMARY:Wirtschaftsempfang
DESCRIPTION;ALTREP="data:text/html,%0A%3Cp%3EDer%20Wirtschaftsstandort%20
 Koblenz%20ist%20gepr%C3%A4gt%20durch%20attraktive%20Unternehmen%2C%20Wiss
 enschaft%2C%20Politik%2C%20Verwaltung%20und%20NGOs.%20Gemeinsam%20bereich
 ern%20sie%20unsere%20Stadt%20und%20erh%C3%B6hen%20die%20Lebens-%20und%20A
 rbeitsbedingungen%20unserer%20Region.%20Die%20GR%C3%9CNEN%20Koblenz%20lad
 en%20hier%20alle%20Interessierten%20am%2006.03.2024%20ein%2C%20um%20sich%
 20%C3%BCber%20den%20Wirtschaftsstandort%20Koblenz%20austauschen%20zu%20k%
 C3%B6nnen.%20%3C%2Fp%3E%0A%0A%0A%0A%3Cp%3ENeben%20vielen%20weiteren%20Ver
 treter%2Ainnen%20aus%20Politik%20und%20Wirtschaft%20freuen%20sich%20Wolfg
 ang%20Treis%20%28SGD-Nord-Pr%C3%A4sident%29%2C%20Dr.%20Andreas%20Lukas%20
 %28zuk%C3%BCnftiger%20Baudezernent%20von%20Koblenz%29%2C%20Kim%20Theisen%
 20und%20Dr.%20Ulrich%20Kleemann%20%28Spitzenkandidat%2Ainnen%20f%C3%BCr%2
 0die%20Kommunalwahl%29%20auf%20den%20Austausch%20mit%20Ihnen.%C2%A0%3C%2F
 p%3E%0A%0A%0A%0A%3Cp%3EZur%20besseren%20Planbarkeit%20hier%20bitten%20wir
 %20um%20Anmeldung%20unter%20info%40gruene-koblenz.de%20bis%20zum%2029.02.
 2024.%3C%2Fp%3E%0A":Der Wirtschaftsstandort Koblenz ist geprägt durch at
 traktive Unternehmen\, Wissenschaft\, Politik\, Verwaltung und NGOs. Geme
 insam bereichern sie unsere Stadt und erhöhen die Lebens- und Arbeitsbed
 ingungen unserer Region. Die GRÜNEN Koblenz laden hier alle Interessiert
 en am 06.03.2024 ein\, um sich über den Wirtschaftsstandort Koblenz aust
 auschen zu können.\n\nNeben vielen weiteren Vertreter*innen aus Politik 
 und Wirtschaft freuen sich Wolfgang Treis (SGD-Nord-Präsident)\, Dr. And
 reas Lukas (zukünftiger Baudezernent von Koblenz)\, Kim Theisen und Dr. 
 Ulrich Kleemann (Spitzenkandidat*innen für die Kommunalwahl) auf den Aus
 tausch mit Ihnen. \n\nZur besseren Planbarkeit hier bitten wir um Anmeld
 ung unter info@gruene-koblenz.de bis zum 29.02.2024.
CLASS:PUBLIC
DTSTART;TZID=Europe/Berlin:20240306T183000
DTEND;TZID=Europe/Berlin:20240306T193000
DTSTAMP:20260422T140629
END:VEVENT
END:VCALENDAR